BEGIN:VCALENDAR
VERSION:2.0
PRODID:-//HOLZLANDF&Uuml;CHSE - ECPv6.15.20//NONSGML v1.0//EN
CALSCALE:GREGORIAN
METHOD:PUBLISH
X-WR-CALNAME:HOLZLANDF&Uuml;CHSE
X-ORIGINAL-URL:https://holzlandfuechse.de
X-WR-CALDESC:Veranstaltungen für HOLZLANDF&Uuml;CHSE
REFRESH-INTERVAL;VALUE=DURATION:PT1H
X-Robots-Tag:noindex
X-PUBLISHED-TTL:PT1H
BEGIN:VTIMEZONE
TZID:Europe/Berlin
BEGIN:DAYLIGHT
TZOFFSETFROM:+0100
TZOFFSETTO:+0200
TZNAME:CEST
DTSTART:20240331T010000
END:DAYLIGHT
BEGIN:STANDARD
TZOFFSETFROM:+0200
TZOFFSETTO:+0100
TZNAME:CET
DTSTART:20241027T010000
END:STANDARD
BEGIN:DAYLIGHT
TZOFFSETFROM:+0100
TZOFFSETTO:+0200
TZNAME:CEST
DTSTART:20250330T010000
END:DAYLIGHT
BEGIN:STANDARD
TZOFFSETFROM:+0200
TZOFFSETTO:+0100
TZNAME:CET
DTSTART:20251026T010000
END:STANDARD
BEGIN:DAYLIGHT
TZOFFSETFROM:+0100
TZOFFSETTO:+0200
TZNAME:CEST
DTSTART:20260329T010000
END:DAYLIGHT
BEGIN:STANDARD
TZOFFSETFROM:+0200
TZOFFSETTO:+0100
TZNAME:CET
DTSTART:20261025T010000
END:STANDARD
END:VTIMEZONE
BEGIN:VEVENT
DTSTART;TZID=Europe/Berlin:20250403T183000
DTEND;TZID=Europe/Berlin:20250403T220000
DTSTAMP:20260424T134315
CREATED:20250131T224749Z
LAST-MODIFIED:20250131T224749Z
UID:1473-1743705000-1743717600@holzlandfuechse.de
SUMMARY:Stammtisch
DESCRIPTION:monatlicher Stammtisch im Gasthaus zur Linde in \nWald 12\n84568 Pleiskirchen \nBeginn 18:30 Uhr \nEnde ??
URL:https://holzlandfuechse.de/event/stammtisch-17/
END:VEVENT
END:VCALENDAR