BEGIN:VCALENDAR
VERSION:2.0
PRODID:-//HOLZLANDF&Uuml;CHSE - ECPv6.15.20//NONSGML v1.0//EN
CALSCALE:GREGORIAN
METHOD:PUBLISH
X-WR-CALNAME:HOLZLANDF&Uuml;CHSE
X-ORIGINAL-URL:https://holzlandfuechse.de
X-WR-CALDESC:Veranstaltungen für HOLZLANDF&Uuml;CHSE
REFRESH-INTERVAL;VALUE=DURATION:PT1H
X-Robots-Tag:noindex
X-PUBLISHED-TTL:PT1H
BEGIN:VTIMEZONE
TZID:Europe/Berlin
BEGIN:DAYLIGHT
TZOFFSETFROM:+0100
TZOFFSETTO:+0200
TZNAME:CEST
DTSTART:20240331T010000
END:DAYLIGHT
BEGIN:STANDARD
TZOFFSETFROM:+0200
TZOFFSETTO:+0100
TZNAME:CET
DTSTART:20241027T010000
END:STANDARD
BEGIN:DAYLIGHT
TZOFFSETFROM:+0100
TZOFFSETTO:+0200
TZNAME:CEST
DTSTART:20250330T010000
END:DAYLIGHT
BEGIN:STANDARD
TZOFFSETFROM:+0200
TZOFFSETTO:+0100
TZNAME:CET
DTSTART:20251026T010000
END:STANDARD
BEGIN:DAYLIGHT
TZOFFSETFROM:+0100
TZOFFSETTO:+0200
TZNAME:CEST
DTSTART:20260329T010000
END:DAYLIGHT
BEGIN:STANDARD
TZOFFSETFROM:+0200
TZOFFSETTO:+0100
TZNAME:CET
DTSTART:20261025T010000
END:STANDARD
END:VTIMEZONE
BEGIN:VEVENT
DTSTART;TZID=Europe/Berlin:20251002T180000
DTEND;TZID=Europe/Berlin:20251002T220000
DTSTAMP:20260424T061113
CREATED:20250914T094141Z
LAST-MODIFIED:20251007T175146Z
UID:1536-1759428000-1759442400@holzlandfuechse.de
SUMMARY:Stammtisch
DESCRIPTION:Monatlicher Stammtisch in \nWald 13\n84513 Pleiskirchen \nBeginn 18:30 Uhr
URL:https://holzlandfuechse.de/event/stammtisch-18/
END:VEVENT
END:VCALENDAR