BEGIN:VCALENDAR
VERSION:2.0
PRODID:-//HOLZLANDF&Uuml;CHSE - ECPv6.15.20//NONSGML v1.0//EN
CALSCALE:GREGORIAN
METHOD:PUBLISH
X-WR-CALNAME:HOLZLANDF&Uuml;CHSE
X-ORIGINAL-URL:https://holzlandfuechse.de
X-WR-CALDESC:Veranstaltungen für HOLZLANDF&Uuml;CHSE
REFRESH-INTERVAL;VALUE=DURATION:PT1H
X-Robots-Tag:noindex
X-PUBLISHED-TTL:PT1H
BEGIN:VTIMEZONE
TZID:Europe/Berlin
BEGIN:DAYLIGHT
TZOFFSETFROM:+0100
TZOFFSETTO:+0200
TZNAME:CEST
DTSTART:20240331T010000
END:DAYLIGHT
BEGIN:STANDARD
TZOFFSETFROM:+0200
TZOFFSETTO:+0100
TZNAME:CET
DTSTART:20241027T010000
END:STANDARD
BEGIN:DAYLIGHT
TZOFFSETFROM:+0100
TZOFFSETTO:+0200
TZNAME:CEST
DTSTART:20250330T010000
END:DAYLIGHT
BEGIN:STANDARD
TZOFFSETFROM:+0200
TZOFFSETTO:+0100
TZNAME:CET
DTSTART:20251026T010000
END:STANDARD
BEGIN:DAYLIGHT
TZOFFSETFROM:+0100
TZOFFSETTO:+0200
TZNAME:CEST
DTSTART:20260329T010000
END:DAYLIGHT
BEGIN:STANDARD
TZOFFSETFROM:+0200
TZOFFSETTO:+0100
TZNAME:CET
DTSTART:20261025T010000
END:STANDARD
END:VTIMEZONE
BEGIN:VEVENT
DTSTART;TZID=Europe/Berlin:20251207T160000
DTEND;TZID=Europe/Berlin:20251207T210000
DTSTAMP:20260423T235949
CREATED:20251007T174745Z
LAST-MODIFIED:20251007T174745Z
UID:1539-1765123200-1765141200@holzlandfuechse.de
SUMMARY:Weihnachtsfeier
DESCRIPTION:Weihnachtsfeier in Landgasthaus zur Linde in \nWald 13\n84568 Pleiskirchen \nBeginn 16:00 Uhr
URL:https://holzlandfuechse.de/event/weihnachtsfeier-4/
END:VEVENT
END:VCALENDAR