BEGIN:VCALENDAR
VERSION:2.0
PRODID:-//HOLZLANDF&Uuml;CHSE - ECPv6.15.20//NONSGML v1.0//EN
CALSCALE:GREGORIAN
METHOD:PUBLISH
X-WR-CALNAME:HOLZLANDF&Uuml;CHSE
X-ORIGINAL-URL:https://holzlandfuechse.de
X-WR-CALDESC:Veranstaltungen für HOLZLANDF&Uuml;CHSE
REFRESH-INTERVAL;VALUE=DURATION:PT1H
X-Robots-Tag:noindex
X-PUBLISHED-TTL:PT1H
BEGIN:VTIMEZONE
TZID:Europe/Berlin
BEGIN:DAYLIGHT
TZOFFSETFROM:+0100
TZOFFSETTO:+0200
TZNAME:CEST
DTSTART:20240331T010000
END:DAYLIGHT
BEGIN:STANDARD
TZOFFSETFROM:+0200
TZOFFSETTO:+0100
TZNAME:CET
DTSTART:20241027T010000
END:STANDARD
BEGIN:DAYLIGHT
TZOFFSETFROM:+0100
TZOFFSETTO:+0200
TZNAME:CEST
DTSTART:20250330T010000
END:DAYLIGHT
BEGIN:STANDARD
TZOFFSETFROM:+0200
TZOFFSETTO:+0100
TZNAME:CET
DTSTART:20251026T010000
END:STANDARD
BEGIN:DAYLIGHT
TZOFFSETFROM:+0100
TZOFFSETTO:+0200
TZNAME:CEST
DTSTART:20260329T010000
END:DAYLIGHT
BEGIN:STANDARD
TZOFFSETFROM:+0200
TZOFFSETTO:+0100
TZNAME:CET
DTSTART:20261025T010000
END:STANDARD
END:VTIMEZONE
BEGIN:VEVENT
DTSTART;TZID=Europe/Berlin:20250502T183000
DTEND;TZID=Europe/Berlin:20250502T220000
DTSTAMP:20260424T104152
CREATED:20250420T102220Z
LAST-MODIFIED:20250420T102220Z
UID:1483-1746210600-1746223200@holzlandfuechse.de
SUMMARY:außerordentliche Mitgliederversammlung
DESCRIPTION:auf Grund unseres 30jährigen Bestehens halten wir am 05.07.2025 ein Fußball-Kleinfeldturnier ab.\nEs wir alles über dieses Fest besprochen (Ablauf\, Einteilung der Helfer usw.) \nBeginn ist um 18:30 Uhr im \nLandgasthaus zu Linde in\nWald 13\n84568 Pleiskirchen
URL:https://holzlandfuechse.de/event/ausserordentliche-mitgliederversammlung/
END:VEVENT
END:VCALENDAR