BEGIN:VCALENDAR
VERSION:2.0
PRODID:-//HOLZLANDF&Uuml;CHSE - ECPv6.15.20//NONSGML v1.0//EN
CALSCALE:GREGORIAN
METHOD:PUBLISH
X-ORIGINAL-URL:https://holzlandfuechse.de
X-WR-CALDESC:Veranstaltungen für HOLZLANDF&Uuml;CHSE
REFRESH-INTERVAL;VALUE=DURATION:PT1H
X-Robots-Tag:noindex
X-PUBLISHED-TTL:PT1H
BEGIN:VTIMEZONE
TZID:Europe/Berlin
BEGIN:DAYLIGHT
TZOFFSETFROM:+0100
TZOFFSETTO:+0200
TZNAME:CEST
DTSTART:20240331T010000
END:DAYLIGHT
BEGIN:STANDARD
TZOFFSETFROM:+0200
TZOFFSETTO:+0100
TZNAME:CET
DTSTART:20241027T010000
END:STANDARD
BEGIN:DAYLIGHT
TZOFFSETFROM:+0100
TZOFFSETTO:+0200
TZNAME:CEST
DTSTART:20250330T010000
END:DAYLIGHT
BEGIN:STANDARD
TZOFFSETFROM:+0200
TZOFFSETTO:+0100
TZNAME:CET
DTSTART:20251026T010000
END:STANDARD
BEGIN:DAYLIGHT
TZOFFSETFROM:+0100
TZOFFSETTO:+0200
TZNAME:CEST
DTSTART:20260329T010000
END:DAYLIGHT
BEGIN:STANDARD
TZOFFSETFROM:+0200
TZOFFSETTO:+0100
TZNAME:CET
DTSTART:20261025T010000
END:STANDARD
END:VTIMEZONE
BEGIN:VEVENT
DTSTART;TZID=Europe/Berlin:20251106T183000
DTEND;TZID=Europe/Berlin:20251106T220000
DTSTAMP:20260423T234736
CREATED:20251007T175029Z
LAST-MODIFIED:20251007T175242Z
UID:1541-1762453800-1762466400@holzlandfuechse.de
SUMMARY:Stammtisch
DESCRIPTION:Monatlicher Stammtisch im Gasthaus zur Linde in \nWald 13\n84568 Pleiskirchen \nBeginn 18:30 Uhr
URL:https://holzlandfuechse.de/event/stammtisch-19/
END:VEVENT
BEGIN:VEVENT
DTSTART;TZID=Europe/Berlin:20251129T113000
DTEND;TZID=Europe/Berlin:20251129T200000
DTSTAMP:20260423T234736
CREATED:20250727T202422Z
LAST-MODIFIED:20251128T125309Z
UID:1509-1764415800-1764446400@holzlandfuechse.de
SUMMARY:Busfahrt zur Allianz-Arena
DESCRIPTION:Busfahrt zur Allianz-Arena gegen St. Pauli \nHaltestellen:\n11:30 Uhr Müllerbräu Töging anschließend\nGasthaus zur Linde in Wald und\nGasthaus Pauli-Wirt in Erharting \nRückfahrt unmittelbar nach dem Spiel um 18:00 Uhr \nEs sind alle Karten vergriffen!! \nAchtung:\nBitte beachtet\, dass die Haltestelle „Feuerwehr Pleiskirchen nur noch nach Bedarf angefahren wird.\nDieser Halt muss unbedingt beim 1. Vorsitzenden angemeldet werden.
URL:https://holzlandfuechse.de/event/1509/
END:VEVENT
END:VCALENDAR