BEGIN:VCALENDAR
VERSION:2.0
PRODID:-//HOLZLANDF&Uuml;CHSE - ECPv6.15.20//NONSGML v1.0//EN
CALSCALE:GREGORIAN
METHOD:PUBLISH
X-ORIGINAL-URL:https://holzlandfuechse.de
X-WR-CALDESC:Veranstaltungen für HOLZLANDF&Uuml;CHSE
REFRESH-INTERVAL;VALUE=DURATION:PT1H
X-Robots-Tag:noindex
X-PUBLISHED-TTL:PT1H
BEGIN:VTIMEZONE
TZID:Europe/Berlin
BEGIN:DAYLIGHT
TZOFFSETFROM:+0100
TZOFFSETTO:+0200
TZNAME:CEST
DTSTART:20250330T010000
END:DAYLIGHT
BEGIN:STANDARD
TZOFFSETFROM:+0200
TZOFFSETTO:+0100
TZNAME:CET
DTSTART:20251026T010000
END:STANDARD
BEGIN:DAYLIGHT
TZOFFSETFROM:+0100
TZOFFSETTO:+0200
TZNAME:CEST
DTSTART:20260329T010000
END:DAYLIGHT
BEGIN:STANDARD
TZOFFSETFROM:+0200
TZOFFSETTO:+0100
TZNAME:CET
DTSTART:20261025T010000
END:STANDARD
BEGIN:DAYLIGHT
TZOFFSETFROM:+0100
TZOFFSETTO:+0200
TZNAME:CEST
DTSTART:20270328T010000
END:DAYLIGHT
BEGIN:STANDARD
TZOFFSETFROM:+0200
TZOFFSETTO:+0100
TZNAME:CET
DTSTART:20271031T010000
END:STANDARD
END:VTIMEZONE
BEGIN:VEVENT
DTSTART;TZID=Europe/Berlin:20260221T113000
DTEND;TZID=Europe/Berlin:20260221T200000
DTSTAMP:20260421T065219
CREATED:20250727T202631Z
LAST-MODIFIED:20260207T200431Z
UID:1512-1771673400-1771704000@holzlandfuechse.de
SUMMARY:Busfahrt zur Allianz-Arena
DESCRIPTION:Busfahrt zur Allianz-Arena gegen Frankfurt \nHaltestellen:\n11:30 Uhr Müllerbräu Töging\nca. 11:45 Uhr Gasthaus zur Linde in Wald und\nca. 12:00 Uhr Gasthaus Pauli-Wirt in Erharting \nRückfahrt um 17:55 Uhr!! \nEs sind alle Karten vergriffen!! \nAchtung:\nBitte beachtet\, dass die Haltestelle „Feuerwehr Pleiskirchen nur noch nach Bedarf angefahren wird.\nDieser Halt muss unbedingt beim 1. Vorsitzenden angemeldet werden.
URL:https://holzlandfuechse.de/event/1512/
END:VEVENT
END:VCALENDAR